BEGIN:VCALENDAR
VERSION:2.0
PRODID:-//Land8 - ECPv5.2.1//NONSGML v1.0//EN
CALSCALE:GREGORIAN
METHOD:PUBLISH
X-WR-CALNAME:Land8
X-ORIGINAL-URL:https://land8.com
X-WR-CALDESC:Events for Land8
BEGIN:VTIMEZONE
TZID:America/New_York
BEGIN:DAYLIGHT
TZOFFSETFROM:-0500
TZOFFSETTO:-0400
TZNAME:EDT
DTSTART:20220313T070000
END:DAYLIGHT
BEGIN:STANDARD
TZOFFSETFROM:-0400
TZOFFSETTO:-0500
TZNAME:EST
DTSTART:20221106T060000
END:STANDARD
END:VTIMEZONE
BEGIN:VEVENT
DTSTART;TZID=America/New_York:20220621T140000
DTEND;TZID=America/New_York:20220623T150000
DTSTAMP:20260420T212318
CREATED:20220610T195455Z
LAST-MODIFIED:20220610T195455Z
UID:3563728-1655820000-1655996400@land8.com
SUMMARY:ASLA SKILL | ED: Project Management for Landscape Architects
DESCRIPTION:As a project manager\, you have a million things to keep track of at any given stage. Effective project management keeps you focused on each step of the way\, from beginning to end. Through this course series\, you will learn how to develop core project management plan components to bring you\, your clients\, and the project team into alignment on resources\, milestones\, and budget.
URL:https://land8.com/event/asla-skill-ed-project-management-for-landscape-architects/
ATTACH;FMTTYPE=image/png:https://land8.com/wp-content/uploads/2022/06/ASLA_SKILLED_LAND_730x425.png
END:VEVENT
END:VCALENDAR