BEGIN:VCALENDAR
VERSION:2.0
PRODID:-//Land8 - ECPv5.2.1//NONSGML v1.0//EN
CALSCALE:GREGORIAN
METHOD:PUBLISH
X-WR-CALNAME:Land8
X-ORIGINAL-URL:https://land8.com
X-WR-CALDESC:Events for Land8
BEGIN:VTIMEZONE
TZID:Asia/Shanghai
BEGIN:STANDARD
TZOFFSETFROM:+0800
TZOFFSETTO:+0800
TZNAME:CST
DTSTART:20220101T000000
END:STANDARD
END:VTIMEZONE
BEGIN:VEVENT
DTSTART;TZID=Asia/Shanghai:20220506T080000
DTEND;TZID=Asia/Shanghai:20220506T150000
DTSTAMP:20260421T065431
CREATED:20220418T223840Z
LAST-MODIFIED:20220419T130803Z
UID:3563530-1651824000-1651849200@land8.com
SUMMARY:Outdoor Spaces Virtual Conference
DESCRIPTION:Landscape | Sustainability | Remediation \nThis virtual one day conference features national leaders in landscape architecture presenting case studies of recent projects and discussions on how the relationship to outdoors has changed in recent years in light of the on-going pandemic\, the urgencies of climate change\, the need for new public spaces\, and the drive to create more healthy and engaged relationships to our landscapes. Join the conversation on May 6th. \nEarn up to 6 AIA HSW CEUs! \nHere are some of the themes we’ll explore: \n-Reinventing the Commons: Public Squares and Amenities Now\n-Wildnerness at Home: The Future of Regional Parks\n-Putting Equity in the Urban Landscape\n-The Past is Present is Future: Memorial Design\n-Facing the Water: Riverside Reclamation
URL:https://land8.com/event/outdoor-spaces-virtual-conference/
CATEGORIES:Community Events
ATTACH;FMTTYPE=image/png:https://land8.com/wp-content/uploads/2022/04/OS_Banners_300x250.png
ORGANIZER;CN="The%20Architect%27s%20Newspaper":MAILTO:szia@archpaper.com
END:VEVENT
END:VCALENDAR